BEGIN:VCALENDAR
VERSION:2.0
PRODID:-//URV Empren - ECPv6.15.17.1//NONSGML v1.0//EN
CALSCALE:GREGORIAN
METHOD:PUBLISH
X-WR-CALNAME:URV Empren
X-ORIGINAL-URL:https://urvempren.cat
X-WR-CALDESC:Events for URV Empren
REFRESH-INTERVAL;VALUE=DURATION:PT1H
X-Robots-Tag:noindex
X-PUBLISHED-TTL:PT1H
BEGIN:VTIMEZONE
TZID:Europe/Madrid
BEGIN:DAYLIGHT
TZOFFSETFROM:+0100
TZOFFSETTO:+0200
TZNAME:CEST
DTSTART:20240331T010000
END:DAYLIGHT
BEGIN:STANDARD
TZOFFSETFROM:+0200
TZOFFSETTO:+0100
TZNAME:CET
DTSTART:20241027T010000
END:STANDARD
BEGIN:DAYLIGHT
TZOFFSETFROM:+0100
TZOFFSETTO:+0200
TZNAME:CEST
DTSTART:20250330T010000
END:DAYLIGHT
BEGIN:STANDARD
TZOFFSETFROM:+0200
TZOFFSETTO:+0100
TZNAME:CET
DTSTART:20251026T010000
END:STANDARD
BEGIN:DAYLIGHT
TZOFFSETFROM:+0100
TZOFFSETTO:+0200
TZNAME:CEST
DTSTART:20260329T010000
END:DAYLIGHT
BEGIN:STANDARD
TZOFFSETFROM:+0200
TZOFFSETTO:+0100
TZNAME:CET
DTSTART:20261025T010000
END:STANDARD
BEGIN:DAYLIGHT
TZOFFSETFROM:+0100
TZOFFSETTO:+0200
TZNAME:CEST
DTSTART:20270328T010000
END:DAYLIGHT
BEGIN:STANDARD
TZOFFSETFROM:+0200
TZOFFSETTO:+0100
TZNAME:CET
DTSTART:20271031T010000
END:STANDARD
END:VTIMEZONE
BEGIN:VEVENT
DTSTART;TZID=Europe/Madrid:20250201T080000
DTEND;TZID=Europe/Madrid:20261231T170000
DTSTAMP:20260421T160029
CREATED:20240130T154433Z
LAST-MODIFIED:20250201T152843Z
UID:9690-1738396800-1798736400@urvempren.cat
SUMMARY:Inscripció Programa Consolida't
DESCRIPTION:Us informem que teniu l’oportunitat de participar en un programa de formació i assessorament personalitzat 100% subvencionat. L’objectiu d’aquesta iniciativa és promoure la consolidació\, el creixement i la reinvenció del treball autònom com a eina per a millorar la competitivitat dels vostres negocis. A través del Consolida’t volem proporcionar-vos les eines necessàries per millorar els vostres models de negoci i fer-los créixer i enfortir. \n 
URL:https://urvempren.cat/esdeveniments/inscripcio-programa-consolidat/
LOCATION:Ajuntament de Reus
CATEGORIES:Entitats
ATTACH;FMTTYPE=image/png:https://urvempren.cat/wp-content/uploads/2024/01/Sin-titulo.png
END:VEVENT
BEGIN:VEVENT
DTSTART;TZID=Europe/Madrid:20251003T080000
DTEND;TZID=Europe/Madrid:20260529T170000
DTSTAMP:20260421T160029
CREATED:20250729T111651Z
LAST-MODIFIED:20250729T111651Z
UID:10506-1759478400-1780074000@urvempren.cat
SUMMARY:CURS FISCALITAT PER EMPRESES I DESPATXOS
DESCRIPTION:PRESENTACIÓ I OBJECTIU\nAmb una exposició precisa i pràctica\, aquest curs ofereix una visió completa de les obligacions fiscals amb què s’enfronten diàriament els despatxos professionals i les petites i mitjanes empreses. S’abordaran les estratègies per gestionar la relació amb Hisenda\, amb especial atenció a aspectes innovadors i de màxima preocupació\, com ara:\n• Despeses relacionades amb l’activitat (vehicles\, despatxos\, etc.)\n• Obligacions de facturació i el sistema VERI*FACTU\n• Estratègies d’optimització fiscal legal\n• Criptomonedes\n• Aplicacions de la Intel·ligència Artificial en l’àmbit fiscal\nA QUI VA DIRIGIT\n• Operadors fiscals\, incloent graduats socials\, advocats\, tècnics tributaris\, economistes\, assessors i representants fiscals que vulguin aprofundir\, actualitzar i posar-se al dia en aquesta matèria.\n• Empresaris i professionals autònoms\, socis i administradors\, així com responsables de finances i comptabilitat de petites i mitjanes empreses\, societats civils\, comunitats de béns i de veïns.\n• Personal de despatxos professionals que assumeixen funcions fiscals o de gestió tributària.\n• Consultors i auditors que treballen amb temes fiscals i volen reforçar els seus coneixements pràctics.\n• Responsables i tècnics de l’administració pública amb funcions relacionades amb la fiscalitat o gestió tributària.\n• Persones\, especialment joves\, interessades en conèixer el fascinant món de la fiscalitat de l’activitat econòmica.\nPROFESSORAT\nLa formació serà impartida per inspectors d’Hisenda i personal directiu de l’AEAT i de l’Agència Tributària Catalana\, així com per assessors fiscals\, professors universitaris i professionals de l’administració local.
URL:https://urvempren.cat/esdeveniments/curs-fiscalitat-per-empreses-i-despatxos/
LOCATION:Cambra de Comerç de Reus\, C/ Boule\, 2\, Reus\, Tarragona\, 43201\, Espanya
CATEGORIES:Entitats
ORGANIZER;CN="Cambra de Comer%C3%A7 de Reus":MAILTO:formacio@cambrareus.org
END:VEVENT
BEGIN:VEVENT
DTSTART;TZID=Europe/Madrid:20260223T080000
DTEND;TZID=Europe/Madrid:20260430T170000
DTSTAMP:20260421T160029
CREATED:20260223T124201Z
LAST-MODIFIED:20260223T124308Z
UID:10790-1771833600-1777568400@urvempren.cat
SUMMARY:PROJECTES DE RECERCA -  IISPV
DESCRIPTION:📆  25/02/2026 – Ajuts SGR‑Cat – AGAUR (Generalitat de Catalunya)- Ultim dia  02 de març a les 14:00  per part del coordinador del Grup SGR. \n📆 22/02/2026 – HealthCare Research Call – “la Caixa” Foundation \n📆15/04/2026 – Connect Call: from research to the social sector – 5th edition – FUNDACIO LA CAIXA \n📆12-13/03/2026  Proyectos de I+D+i en Salud 2026 -AES2026 ISCIII – \n📆20/07/2026 Fundación Mustela – Beca de Investigación para Matronas \n📆05/04/2026 Asociación Cáncer de Páncreas – 11ª EDICIÓN BECA CARMEN DELGADO/MIGUEL PÉREZ-MATEO A LA INVESTIGACIÓN EN CÁNCER DE PÁNCREAS \n📆18/03/2026 Fundació Societat Catalana de Neurologia – Beca Dra. Isabel Illa Sendra \n📆24/04/2026 Fundación Alicia Koplowitz – CONVOCATORIA DE AYUDAS A PROYECTOS DE INVESTIGACIÓN 2026 \n📆25/03/2026 Laboratorios Grifols S.A. – Award for Scientific Progress in Immunodeficiency Research (ASPIRE) 2026 \n📆25/03/2026 Jané Mateu Foundation – Ayuda a proyectos de investigación científica en las áreas de oncología\, dermatología\, y/o trastornos metabólicos. \n📆25/03/2026 Fundación Academia Española de Dermatologia (FAEDV) – Ayuda de la Fundación Piel Sana “EUROMELANOMA” Proyecto de investigación sobre cáncer cutáneo 2026 \n📆15/03/2026 Fundación BBVA – Becas Leonardo a Investigadores y Creadores Culturales 2026
URL:https://urvempren.cat/esdeveniments/projectes-de-recerca-iispv/
LOCATION:Institut de Investigació Sanitária Pere Virgili
END:VEVENT
BEGIN:VEVENT
DTSTART;TZID=Europe/Madrid:20260323T080000
DTEND;TZID=Europe/Madrid:20260505T170000
DTSTAMP:20260421T160029
CREATED:20260223T124559Z
LAST-MODIFIED:20260223T124702Z
UID:10793-1774252800-1778000400@urvempren.cat
SUMMARY:Cambra Valls: Missió Comercial Inversa de vi Dinamarca i Holanda
DESCRIPTION:La Cambra de Comerç de Valls organitza una Missió Comercial Inversa amb importadors danesos i holandesos de vi\, els dies 5\, 6 i 7 de maig\, amb l’objectiu de facilitar a les empreses participants l’accés al mercat danès com a prioritat\, i a l’holandès com a mercat secundari. Aquesta acció comercial permet a l’empresa poder conèixer importadors sense haver de viatjar a l’estranger i incórrer en despeses de desplaçament. \nObjectiu:\nPromocionar les exportacions de vi a Dinamarca i Holanda. Dinamarca es el mercat principal d’aquesta missió\, mentre que Holanda es tractarà com a mercat secundari\, el que implica que la majoria dels importadors provindran de Dinamarca. \nOperativa:\nLes empreses interessades hauran d’omplir el formulari d’inscripció i fer-nos arribar una presentació corporativa en anglès\, que serà utilitzada per a la promoció davant dels importadors internacionals. \nDurant el mes de febrer s’iniciarà la difusió del projecte entre els principals importadors i distribuïdors dels mercats objectiu (Dinamarca i Països Baixos). Paral·lelament\, es farà arribar la informació de les empreses participants als potencials compradors en destí. \nA partir d’aquest procés\, es durà a terme una selecció final dels importadors que viatjaran a Valls per participar en la missió comercial. \nAbans de la missió\, s’organitzarà una sessió informativa específica sobre els mercats danès i holandès. Aquesta presentació inclourà: \n\nTendències actuals de consum\nCaracterístiques del canal de distribució\nRequisits d’entrada al mercat\nRecomanacions estratègiques per a una negociació efectiva\n\nL’objectiu és que les empreses participants disposin d’informació pràctica i estratègica per preparar adequadament les reunions comercials.
URL:https://urvempren.cat/esdeveniments/cambra-valls-missio-comercial-inversa-de-vi-dinamarca-i-holanda/
CATEGORIES:Entitats
ATTACH;FMTTYPE=image/jpeg:https://urvempren.cat/wp-content/uploads/2026/02/IMG-20250704-WA0035.jpg
END:VEVENT
BEGIN:VEVENT
DTSTART;TZID=Europe/Madrid:20260326T080000
DTEND;TZID=Europe/Madrid:20260510T170000
DTSTAMP:20260421T160029
CREATED:20260326T115539Z
LAST-MODIFIED:20260326T115539Z
UID:10839-1774512000-1778432400@urvempren.cat
SUMMARY:650.000€ para proyectos de impacto | Presenta tu proyecto
DESCRIPTION:Doble convocatoria de los fondos de Venture Philanthropy para financiar e impulsar soluciones que mejoran la vida de las personas y el medio ambiente. Si estás desarrollando un proyecto innovador con impacto social o medioambiental\, esta es tu oportunidad. \nScale4Impact – Convocatoria abierta hasta el 26 de abril 2026 \nÁmbito: Inclusión social a través de la Empleabilidad y Educación \nFondo de impacto: 150.000€ \nFinanciación por proyecto: Entre 25.000€ y 75.000€\nTipo de proyectos: Empresas sociales\, Start-ups o Entidades sin ánimo de lucro \nPartner impulsor: Bikai \nFecha cierre convocatoria: 26 de abril \nFecha webinar informativo: 27 de marzo a las 11h \nTiina – Convocatoria abierta hasta el 10 de mayo \nÁmbito: Alimentación sostenible y Arte ciudadano \nFondo de impacto: 500.000€ \nFinanciación por proyecto: Entre 50.000€ y 100.000€ \nTipo de proyectos: Empresas sociales\, Startups o Entidades sin ánimo de lucro \nPartner impulsor: Fundación Daniel y Nina Carasso \nFecha cierre convocatoria: 10 de mayo \nFecha webinar informativo: 27 de marzo a las 13h
URL:https://urvempren.cat/esdeveniments/650-000e-para-proyectos-de-impacto-presenta-tu-proyecto/
LOCATION:Ship2B
CATEGORIES:Entitats
END:VEVENT
BEGIN:VEVENT
DTSTART;TZID=Europe/Madrid:20260326T080000
DTEND;TZID=Europe/Madrid:20261031T170000
DTSTAMP:20260421T160029
CREATED:20260326T113919Z
LAST-MODIFIED:20260326T113919Z
UID:10829-1774512000-1793466000@urvempren.cat
SUMMARY:Consolida't 2026
DESCRIPTION:Programa d’acompanyament individual a la consolidació empresarial\, amb consultors externs\, experts en estratègia i gestió empresarial\, formació en grup i subvencionat pel Departament d’Empresa i Treball de la Generalitat de Catalunya. \nObjectiu del programa\nConsolida’t és un programa dirigit a professionals autònoms que té com a finalitat promoure la consolidació\, el creixement i la reinvenció del negoci\, proporcionant eines i estratègies per adaptar-se i prosperar en un entorn empresarial cada vegada més competitiu. \nQuè inclou el programa?\n• Assessorament Personalitzat: Fins a 13h de sessions individualitzades tant presencials com en línia en diversos àmbits essencials per al creixement empresarial.\n• Píndoles Formatives: Sessions en format presencial o en línia adaptades a les necessitats clau per a l’empresa. \nQui pot participar? \n• Persones treballadores autònomes i TRADE\n• Empreses amb menys de 4 persones contractades o una facturació inferior a 500.000 €\n• Persones que han cessat la seva activitat i volen iniciar un nou projecte (DONO)\n• Persones treballadores autònomes col·laboradores\n* (Només es permet la inscripció d’un/a participant per negoci.) \nDurada i inscripcions \nEl programa es desenvoluparà fins al novembre de 2026 a l’Espai de Promoció Econòmica ubicat a REDESSA VIVER
URL:https://urvempren.cat/esdeveniments/consolidat-2026/
LOCATION:Ajuntament de Reus
CATEGORIES:Entitats
ATTACH;FMTTYPE=image/png:https://urvempren.cat/wp-content/uploads/2026/03/consolidate.png
END:VEVENT
BEGIN:VEVENT
DTSTART;TZID=Europe/Madrid:20260326T080000
DTEND;TZID=Europe/Madrid:20260831T170000
DTSTAMP:20260421T160029
CREATED:20260326T114106Z
LAST-MODIFIED:20260326T114106Z
UID:10832-1774512000-1788195600@urvempren.cat
SUMMARY:Servei Prototest
DESCRIPTION:Aquest servei ofereix a les empreses la possibilitat de testar el seu producte o servei a potencials consumidors finals o bé intermediaris abans de la sortida a mercat o bé per explorar nous mercats.\nCombina metodologies àgils d’investigació de mercats i tècniques qualitatives com focus groups i entrevistes\, que ajuden les empreses a identificar el seu públic ideal i optimitzar la seva estratègia. Cada empresa disposa de fins a 15 hores d’assessorament personalitzat\, amb professionals especialitzats en màrqueting i investigació de mercats
URL:https://urvempren.cat/esdeveniments/servei-prototest/
LOCATION:Ajuntament de Reus
CATEGORIES:Entitats
ATTACH;FMTTYPE=image/jpeg:https://urvempren.cat/wp-content/uploads/2026/03/prototes.jpg
END:VEVENT
BEGIN:VEVENT
DTSTART;TZID=Europe/Madrid:20260408T080000
DTEND;TZID=Europe/Madrid:20260506T170000
DTSTAMP:20260421T160029
CREATED:20260326T113633Z
LAST-MODIFIED:20260326T113633Z
UID:10826-1775635200-1778086800@urvempren.cat
SUMMARY:#Dimecres per crear i connectar. L'espai per potenciar el teu negoci
DESCRIPTION:CÀPSULES D’INNOVACIÓ EN VENDES: ESTRATÈGIES I TENDÈNCIES D’ÈXIT\nPer a PIMES\, MICROPIMES I AUTÒNOMS \n8 D’ABRIL 2026 \nINNOVAR EN MODELS TRADICIONALS DE NEGOCl\nElements claus per transformar-se\, la importància de sistematitzar la innovació i de incloure-la en l’estratègia de l’empresa.\nMar Pàmies Solà-Corporate Innovation and Finance Manager a KRISKADECOR\nhttps://inscripcions.reus.cat/innovar-negoci \n15 D’ABRIL 2026 \nVENDA ONLINE I MÀRQUETING DIGITAL\nPresència digital efectiva\, estratègies de captació\, conversió i embuts de venda\, i ús de xarxes socials amb objectiu comercial.\nEnric Ginovart – CEO i emprenedor. Fundador d’Incubalia i Dormideo\nhttps://inscripcions.reus.cat/venda-online \n22 D’ABRIL 2026 \nB2B: COM GUANYAR CLIENTS A LINKEDIN\nEstratègia comercial B2B\, networking productiu\, ús de Linkedin\, propostes de valor i tancament d’acords.\nMarc Jardí – Emprenedor i Fundador de Ploot\nhttps://inscripcions.reus.cat/clients-linkedin \n29 D’ABRIL 2026 \nVENDA INTERNACIONAL: EL NOSTRE MÓN ÉS EL MÓN\nOportunitats d’internacionalització\, canals digitals globals\, adaptació cultural i estratègies d’entrada a nous mercats.\nArmand Bogaarts – Cofundador d’Startsud. CEO i emprenedor Founder de Messagenes\, Filocian\, LCL Belgium\, Eurofiber.\nhttps://inscripcions.reus.cat/venda-internacional \n6 DE MAIG 2026 \nVENDRE ÉS EL MÉS IMPORTANT: QUIN ÉS EL TEU PLA?\nDesenvolupar un pla d’acció comercial\, definir d’objectius i activar de compromisos de venda.\nMarc Arza – Cofundador d’Startsud. Emprenedor i Business Angel Founder de Futura.cat Expert en promoció econòmica.\nhttps://inscripcions.reus.cat/vendre-important
URL:https://urvempren.cat/esdeveniments/dimecres-per-crear-i-connectar-lespai-per-potenciar-el-teu-negoci/
LOCATION:Ajuntament de Reus
CATEGORIES:Entitats
ATTACH;FMTTYPE=image/png:https://urvempren.cat/wp-content/uploads/2026/03/Sin-titulo.png
END:VEVENT
BEGIN:VEVENT
DTSTART;TZID=Europe/Madrid:20260408T080000
DTEND;TZID=Europe/Madrid:20260724T170000
DTSTAMP:20260421T160029
CREATED:20260326T121343Z
LAST-MODIFIED:20260326T121343Z
UID:10855-1775635200-1784912400@urvempren.cat
SUMMARY:Certificat de Professionalitat "Operacions bàsiques en el muntatge i manteniment d’instal·lacions d’energies renovables"
DESCRIPTION:En un context global marcat per la transició energètica\, la descarbonització i la necessitat urgent de sistemes més sostenibles\, els perfils tècnics especialitzats en energies renovables esdevenen essencials per al present i el futur del sector. \nAquest certificat de professionalitat et proporciona els coneixements i habilitats bàsiques per incorporar-te amb garanties al muntatge i manteniment d’instal·lacions d’energia solar tèrmica\, fotovoltaica i eòlica de petita potència. Com a professional en la formació\, aprendràs a realitzar operacions essencials del procés d’instal·lació i manteniment\, seguint procediments tècnics\, criteris de qualitat i les prescripcions de seguretat necessàries per protegir les persones\, el medi ambient i les pròpies instal·lacions. \nDurant la formació es combinarà una aproximació pràctica amb una base tècnica sòlida\, orientada a l’adquisició de competències professionals. \nAprofita aquesta oportunitat per formar-te en un àmbit amb alta demanda laboral\, contribuint de manera directa a un model energètic més net\, eficient i sostenible.
URL:https://urvempren.cat/esdeveniments/certificat-de-professionalitat-operacions-basiques-en-el-muntatge-i-manteniment-dinstal%c2%b7lacions-denergies-renovables/
LOCATION:Novatècnica Centre de Formació Vila-seca (C/ Mas de l’Abad 46 nave B147 – Pol. Ind. Alba – 43480 Vila-seca)
CATEGORIES:Entitats
ATTACH;FMTTYPE=image/jpeg:https://urvempren.cat/wp-content/uploads/2026/03/199.jpg
ORGANIZER;CN="Diputaci%C3%B3 de Tarragona":MAILTO:pao@dipta.cat
END:VEVENT
BEGIN:VEVENT
DTSTART;TZID=Europe/Madrid:20260424T080000
DTEND;TZID=Europe/Madrid:20260424T170000
DTSTAMP:20260421T160029
CREATED:20260326T120801Z
LAST-MODIFIED:20260326T120801Z
UID:10850-1777017600-1777050000@urvempren.cat
SUMMARY:Nexe Rural: Del Territori a l’Oportunitat: Emprenedoria i Turisme per al Desenvolupament Local
DESCRIPTION:Tercera edició que es celebrarà el proper 24 d’abril de 2026 a l’espai de coworking Zona Líquida (Riba-roja d’Ebre).
URL:https://urvempren.cat/esdeveniments/nexe-rural-del-territori-a-loportunitat-emprenedoria-i-turisme-per-al-desenvolupament-local/
LOCATION:Zona Líquida Riba-roja Coworking\, Plaça de la Vila 1\, Riba-roja d'Ebre\, Tarragona\, 43790\, Espanya
CATEGORIES:Entitats
ORGANIZER;CN="Zona L%C3%ADquida":MAILTO:coworking@riba-roja.cat
END:VEVENT
BEGIN:VEVENT
DTSTART;TZID=Europe/Madrid:20260428T093000
DTEND;TZID=Europe/Madrid:20260428T170000
DTSTAMP:20260421T160029
CREATED:20260326T114833Z
LAST-MODIFIED:20260326T114833Z
UID:10835-1777368600-1777395600@urvempren.cat
SUMMARY:SAVE THE DATE | Jornada de presentación del Anuario TarragonaPort 2026
DESCRIPTION:La presentació de l’Anuari TarragonaPort 2026 ja té data. L’acte se celebrarà el dimarts 28 d’abril a les 9.30 hores al Celler de Vila-seca i inclourà una jornada centrada en el futur del sector logístic. Sota el títol “Tendències de futur de la logística”\, la trobada abordarà els principals reptes i oportunitats d’un àmbit en constant transformació\, amb la participació de professionals i agents vinculats al sector. \nPer sisè any consecutiu\, l’Anuari TarragonaPort es consolida com la publicació de referència sobre el Port de Tarragona i el seu hinterland. L’edició de 2026\, amb més de 100 pàgines\, recull el balanç de l’activitat portuària durant el 2025\, així com els principals projectes en curs. \nLa publicació es completa amb reportatges i taules rodones específiques dedicades al sector logístic\, amb l’objectiu d’oferir una visió global i actualitzada de l’evolució i els desafiaments del sector.
URL:https://urvempren.cat/esdeveniments/save-the-date-jornada-de-presentacion-del-anuario-tarragonaport-2026/
LOCATION:Celler Vilaseca
CATEGORIES:Entitats
ATTACH;FMTTYPE=image/jpeg:https://urvempren.cat/wp-content/uploads/2026/03/tarragona-port.jpg
ORGANIZER;CN="Ajuntament de Vila-seca":MAILTO:soce@vila-seca.cat
END:VEVENT
BEGIN:VEVENT
DTSTART;TZID=Europe/Madrid:20260429T110000
DTEND;TZID=Europe/Madrid:20260513T130000
DTSTAMP:20260421T160029
CREATED:20260326T120003Z
LAST-MODIFIED:20260326T120003Z
UID:10844-1777460400-1778677200@urvempren.cat
SUMMARY:Els protocols d'abordatge de les violències masclistes a les cooperatives de treball
DESCRIPTION:Sou una cooperativa de treball?\nVoleu aprendre a abordar violències masclistes en els vostres entorns? \nEl proper 29 d’abril iniciem un itinerari formatiu dividit entre tres dies\, que us donarà les claus per elaborar el vostre propi protocol d’abordatge sobre les violències masclistes \nPrograma \n29/04 – Sessió 1: Marc conceptual i detecció: amb aquesta primera sessió tractarem els conceptes clau per identificar i entendre com operen les violències masclistes en l’àmbit laboral. [Sessió presencial a la seu d’Icària SCCL (C/ Lepant\, 20\, Reus)]. \nContinguts: \nSistema sexe-gènere i relacions de poder\nViolències masclistes en l’àmbit laboral\nTipologies d’assetjament: sexual\, per raó de sexe\, LGTBIQ-fòbia\nFormes subtils i normalitzades\nImpacte emocional i organitzatiu\nIndicadors d’alerta i factors de risc \n06/05 – Sessió 2: Prevenció i protocols. Amb la segona sessió abordarem el marc legal de les cooperatives en la matèria\, així com els principis bàsics d’un bon protocol d’actuació i prevenció vers les violències masclistes. [Sessió virtual] \nContinguts: \nObligacions legals de les cooperatives\nPrevenció com a responsabilitat col·lectiva\nRiscos psicosocials i cures internes\nPrincipis bàsics dels protocols\nRols\, circuits i responsabilitats\nDiferència entre comunicació\, acompanyament i denúncia \n13/05 – Sessió 3: Simulació i construcció del protocol. Mitjançant un cas pràctic\, aplicarem els coneixements abordats per tal que cada entitat pugui elaborar el seu propi protocol. [Sessió virtual] \nContinguts: \nPresentació d’un cas pràctic\nSimulació guiada d’activació del protocol\nTreball en grup per definir el circuit d’actuació\, les mesures de protecció\, responsables i procediments interns\nRetorn col·lectiu\nOrientacions per a l’elaboració final del document\nResolució de dubtes. \nL’horari és d’11 h a 13 h els tres dies.
URL:https://urvempren.cat/esdeveniments/els-protocols-dabordatge-de-les-violencies-masclistes-a-les-cooperatives-de-treball/
LOCATION:CoopCamp
ATTACH;FMTTYPE=image/png:https://urvempren.cat/wp-content/uploads/2026/03/260429-consolidacio_cartell-1200x1697-1.png
ORGANIZER;CN="Coop Camp":MAILTO:comunicacio@coopcamp.cat
END:VEVENT
END:VCALENDAR